BEGIN:VCALENDAR
VERSION:2.0
PRODID:-//pretix//Kasse//
BEGIN:VTIMEZONE
TZID:Europe/Berlin
BEGIN:STANDARD
DTSTART:20001029T040000
RRULE:FREQ=YEARLY;BYDAY=-1SU;BYMONTH=10
TZNAME:CET
TZOFFSETFROM:+0200
TZOFFSETTO:+0100
END:STANDARD
BEGIN:DAYLIGHT
DTSTART:20000326T030000
RRULE:FREQ=YEARLY;BYDAY=-1SU;BYMONTH=3
TZNAME:CEST
TZOFFSETFROM:+0100
TZOFFSETTO:+0200
END:DAYLIGHT
END:VTIMEZONE
BEGIN:VEVENT
UID:pretix-sf-TFFB26-0@kasse.spreefolk.de
DTSTART;TZID=Europe/Berlin:20260130T180000
DTEND;TZID=Europe/Berlin:20260201T170000
DESCRIPTION:Tickets: https://kasse.spreefolk.de/TFFB26/\nEinlass: 30.01.202
 6 17:30\nVeranstalter: Spreefolk e.V
DTSTAMP:20260420T135058Z
LOCATION:Wabe\, Danziger Str. 101\, 10405 Berlin
SUMMARY:TFFB 2026 - Tanz & Folk Festival Berlin
END:VEVENT
END:VCALENDAR
