BEGIN:VCALENDAR
VERSION:2.0
PRODID:-//pretix//Kasse//
BEGIN:VTIMEZONE
TZID:Europe/Berlin
BEGIN:STANDARD
DTSTART:20001029T040000
RRULE:FREQ=YEARLY;BYDAY=-1SU;BYMONTH=10
TZNAME:CET
TZOFFSETFROM:+0200
TZOFFSETTO:+0100
END:STANDARD
BEGIN:DAYLIGHT
DTSTART:20000326T030000
RRULE:FREQ=YEARLY;BYDAY=-1SU;BYMONTH=3
TZNAME:CEST
TZOFFSETFROM:+0100
TZOFFSETTO:+0200
END:DAYLIGHT
END:VTIMEZONE
BEGIN:VEVENT
UID:pretix-sf-FW2026-03-0@kasse.spreefolk.de
DTSTART;TZID=Europe/Berlin:20260322T170000
DTEND;TZID=Europe/Berlin:20260322T180000
DESCRIPTION:Tickets: https://kasse.spreefolk.de/FW2026-03/\nAdmission: 2026
 -03-22 15:45\nOrganizer: Spreefolk e.V
DTSTAMP:20260421T060030Z
LOCATION:Kulturhaus Alte Feuerwache\, Marchlewskistraße 6\, 10243 Berlin\,
  Studiobühne im 2. OG
SUMMARY:Balfolk festive evening feat. Balfolk-Festabend mit Stefano Baldan 
 und Light Migrations (PL/UA)
END:VEVENT
BEGIN:VEVENT
UID:pretix-sf-FSQ2026-03-0@kasse.spreefolk.de
DTSTART;TZID=Europe/Berlin:20260325T200000
DTEND;TZID=Europe/Berlin:20260325T210000
DESCRIPTION:Tickets: https://kasse.spreefolk.de/FSQ2026-03/\nAdmission: 202
 6-03-25 18:45\nOrganizer: Spreefolk e.V
DTSTAMP:20260421T060030Z
LOCATION:KuBiZ – Berlin-Weißensee\, Bernkasteler Str. 78\, 13088 Berlin
SUMMARY:Balfolk festive evening feat. Floating Sofa Quartet (SE\, DK\, FI)
END:VEVENT
BEGIN:VEVENT
UID:pretix-sf-KMH2026-04-0@kasse.spreefolk.de
DTSTART;TZID=Europe/Berlin:20260418T200000
DTEND;TZID=Europe/Berlin:20260418T210000
DESCRIPTION:Tickets: https://kasse.spreefolk.de/KMH2026-04/\nAdmission: 202
 6-04-18 18:45\nOrganizer: Spreefolk e.V
DTSTAMP:20260421T060030Z
LOCATION:KulturMarktHalle e.V.\, Hanns-Eisler-Straße 93\, 10409 Berlin
SUMMARY:Balfolk festive evening feat. Folkinger
END:VEVENT
BEGIN:VEVENT
UID:pretix-sf-FW2026-05-0@kasse.spreefolk.de
DTSTART;TZID=Europe/Berlin:20260503T170000
DTEND;TZID=Europe/Berlin:20260503T180000
DESCRIPTION:Tickets: https://kasse.spreefolk.de/FW2026-05/\nAdmission: 2026
 -03-22 15:45\nOrganizer: Spreefolk e.V
DTSTAMP:20260421T060030Z
LOCATION:Kulturhaus Alte Feuerwache\, Marchlewskistraße 6\, 10243 Berlin\,
  Studiobühne im 2. OG
SUMMARY:Balfolk festive evening feat. Nubia (NL) und Duo Suchanek & Peters
END:VEVENT
END:VCALENDAR
