BEGIN:VCALENDAR
VERSION:2.0
PRODID:-//pretix//Kasse//
BEGIN:VTIMEZONE
TZID:Europe/Berlin
BEGIN:STANDARD
DTSTART:20001029T040000
RRULE:FREQ=YEARLY;BYDAY=-1SU;BYMONTH=10
TZNAME:CET
TZOFFSETFROM:+0200
TZOFFSETTO:+0100
END:STANDARD
BEGIN:DAYLIGHT
DTSTART:20000326T030000
RRULE:FREQ=YEARLY;BYDAY=-1SU;BYMONTH=3
TZNAME:CEST
TZOFFSETFROM:+0100
TZOFFSETTO:+0200
END:DAYLIGHT
END:VTIMEZONE
BEGIN:VEVENT
UID:pretix-sf-wabe2025-11-0@kasse.spreefolk.de
DTSTART;TZID=Europe/Berlin:20251121T200000
DTEND;TZID=Europe/Berlin:20251121T210000
DESCRIPTION:Tickets: https://kasse.spreefolk.de/wabe2025-11/\nEinlass: 21.1
 1.2025 18:45\nVeranstalter: Spreefolk e.V
DTSTAMP:20260420T130029Z
LOCATION:Wabe\, Danziger Str. 101\, 10405 Berlin
SUMMARY:TANZhaus WABE mit Djîga (CH) & Duo Marfinara
END:VEVENT
END:VCALENDAR
